BEGIN:VCALENDAR
VERSION:2.0
PRODID:-//wp-events-plugin.com//7.2.3.1//EN
BEGIN:VEVENT
UID:10@ek.co.za
DTSTART;VALUE=DATE:20240718
DTEND;VALUE=DATE:20240719
DTSTAMP:20240710T111742Z
URL:https://ek.co.za/events/1193/
SUMMARY:NAVALSIG SPAR BLOEMFONTEIN
DESCRIPTION:!URGENT AUCTION!!\nTHURSDAY\,18th JULY 2024 at 10H00\n[gallery 
 ids="1348\,1347\,1346\,1345\,1344\,1343\,1342\,1341\,1340\,1339\,1338\,133
 7\,1336\,1335\,1333\,1332\,1331\,1330\,1329\,1328\,1327\,1326\,1324\,1323\
 ,1322\,1321\,1319\,1310\,1311\,1312\,1313\,1314\,1315\,1317\,1316\,1318\,1
 309\,1308\,1307\,1306\,1305\,1304\,1303\,1302\,1301\,1293\,1294\,1295\,129
 6\,1297\,1298\,1299\,1300"]\, 171 RAYMOND MHLABA STREET\, (ANDRIES PRETORI
 US STREET)\, NOORDHOEK\, BLOEMFONTEIN\, FREE STATE.\n\nDuly instructed the
 reto by the Sellers\, the following movable assets will be offered and sol
 d by way of public auction:\n\n2019 Toyota Hilux 2\,4GD  lwb diesel bakkie
  (112406 kilometers)\, 2004 Isuzu N Series Truck NPR400 with Enclosed Body
 \, 1994 Toyota Hilux 1.8 flat loading bed bakkie\, Diesel 100kva Generator
 \,  Gondola Shelving\, Industrial Racks\, Display Shelves\,Alarm System\, 
 CCTV Camera System\,  6 x Safes\, Point of Sale  computers\, Printers\, UP
 S Backup Systems\, Catering Equipment\, Computers\, Office Furniture\, Ret
 ail Counters\, Cold Rooms\, Display Fridges\, Bakery Equipment\, Butchery 
 Equipment\, Stainless Steel Tables\, Digital  Scales and much more!\n\nTER
 MS:  Voetstoots. Strictly cash\, instant EFT\, and/or card payments accept
 ed. FICA and CPA Acts enforced. R5000 (FIVE THOUSAND RAND) refundable regi
 stration fee to obtain a Bidders Number. Card facilities available.  \n\nT
 he Auctioneer reserve the right to group items\, sell items separately\, o
 ffer items provisionally\, or withdraw items during the auction.  VAT is a
 dded where applicable.  \nFor enquiries and information contact the Auctio
 neer\,  Mr Alan Kahts (0825671718) or our offices on (051) 4301511.
ATTACH;FMTTYPE=image/jpeg:https://ek.co.za/wp-content/uploads/2024/07/4503
 19905_1043827217205538_6359466262106020264_n.jpg
LOCATION:Navalsig Spar\, 171 Raymond Mhlaba Street Noordhoek\, Bloemfontein
 \, Free State\, 9301\, Free State \, South Africa
GEO:-29.095993;26.246884
X-APPLE-STRUCTURED-LOCATION;VALUE=URI;X-ADDRESS=171 Raymond Mhlaba Street N
 oordhoek\, Bloemfontein\, Free State\, 9301\, Free State \, South Africa;X
 -APPLE-RADIUS=100;X-TITLE=Navalsig Spar:geo:-29.095993,26.246884
END:VEVENT
END:VCALENDAR