BEGIN:VCALENDAR
VERSION:2.0
PRODID:-//wp-events-plugin.com//7.2.3.1//EN
BEGIN:VEVENT
UID:15@ek.co.za
DTSTART:20251016T100000Z
DTEND:20251016T100000Z
DTSTAMP:20251007T132032Z
URL:https://ek.co.za/events/deceased-estate-auction-of-fichardt-park-3-bed
 room-house/
SUMMARY:DECEASED ESTATE AUCTION OF FICHARDT PARK 3 BEDROOM HOUSE
DESCRIPTION:\nDECEASED ESTATE AUCTION OF FICHARDT PARK 3 BEDROOM HOUSE\nDul
 y instructed by the Trustees\, we will sell the subject property by public
  auction on site at:\n\n\nERF 14274\, Better KNOWN AS 74 BENADE DRIVE\, FI
 CHARDT PARK\, BLOEMFONTEIN\, FREE STATE on\nTHURSDAY\, 16 OCTOBER 2025 AT 
 10H00\n\n\nThe Subject Property measuring 1 071m2 consists of three bedroo
 ms with built-in cupboards. Main bedroom with en-suite bathroom. Lounge\, 
 Dining room\, Study\, Bar entertainment area\, TV Room and Kitchen. The Ou
 tbuildings consist of a Labourers room\, Swimming pool\, Entertainment are
 a with Built-in-braai\, Two garages and a carport. The garden is neatly es
 tablished with a lawn\, trees\, shrubs and the property is enclosed with c
 ement precast walls\, devils fork and electronic gates.\nViewing: WEDNESDA
 Y\, 15 OCTOBER 2025 from 10h00 - 15h00\n\n\nTERMS: 10% Deposit on the fall
  of the hammer and an acceptable guarantee for the balance purchase price.
 \n\n\nFull Conditions of Sale will be read out in public prior to the auct
 ion. Confirmation period is 7 days to allow increased offers from the publ
 ic who have only one chance to submit an offer.\nFor further information a
 nd details\, contact the Auctioneer\, Mr. Alan Kahts on 082 567 1718 and O
 ffice (051) 430 1511\n\n           
ATTACH;FMTTYPE=image/jpeg:https://ek.co.za/wp-content/uploads/2025/10/Capt
 ure.jpg
LOCATION:74 Benade Drive\, Fichardt Park\, Bloemfontein\, 74 Benade Drive\,
  Fichardt Park\, Bloemfontein\, 9301\, South Africa
GEO:-29.140804;26.174955
X-APPLE-STRUCTURED-LOCATION;VALUE=URI;X-ADDRESS=74 Benade Drive\, Fichardt 
 Park\, Bloemfontein\, 9301\, South Africa;X-APPLE-RADIUS=100;X-TITLE=74 Be
 nade Drive\, Fichardt Park\, Bloemfontein:geo:-29.140804,26.174955
END:VEVENT
END:VCALENDAR