BEGIN:VCALENDAR
VERSION:2.0
PRODID:-//wp-events-plugin.com//7.2.3.1//EN
BEGIN:VEVENT
UID:9@ek.co.za
DTSTART:20240620T100000Z
DTEND:20240620T160000Z
DTSTAMP:20240603T131518Z
URL:https://ek.co.za/events/urgent-auction-scheepers-ok-foods/
SUMMARY:!!URGENT AUCTION!! SCHEEPERS OK FOODS
DESCRIPTION:Duly instructed thereto by the Seller\, the following movable a
 ssets will be offered and sold by way of public auction:\n\nGondola Shelvi
 ng\, Industrial Racks\, Display Shelves\, 2x Hyundai Bakkies\, Nissan Fork
 lift\, Catering Equipment\, Computers\, Office Furniture\, Retail Counters
 \, Cold Rooms\, Display Fridges\, Bakery Equipment\, Butchery Equipment\, 
 Stainless Steel Tables\, Jojo Tanks\, Shipping Container and much more! Pl
 ease note stock is not included in loose assets. \n\nTERMS: Voetstoots. St
 rictly cash\, instant EFT\, and/or card payments accepted. FICA and CPA Ac
 ts enforced. R2000 refundable registration fee to obtain a Bidders Number.
  Card facilities available.  \n\nThe Auctioneer reserve the right to group
  items\, sell items separately\, offer items provisionally\, or withdraw i
 tems during the auction.  VAT is added where applicable.  \n\nFor enquirie
 s and information contact the Auctioneer\,  Mr Alan Kahts (0825671718) or 
 our offices on (051) 4301511.
ATTACH;FMTTYPE=image/jpeg:https://ek.co.za/wp-content/uploads/2024/06/4474
 25403_1018309083090685_5139107730609572358_n.jpg
LOCATION:OK Foods Scheepers\, 3 Jan van Riebeeck Street \, Senekal \, South
  Africa \, Free State \, South Africa
GEO:-28.321411;27.622324
X-APPLE-STRUCTURED-LOCATION;VALUE=URI;X-ADDRESS=3 Jan van Riebeeck Street \
 , Senekal \, South Africa \, Free State \, South Africa;X-APPLE-RADIUS=100
 ;X-TITLE=OK Foods Scheepers:geo:-28.321411,27.622324
END:VEVENT
END:VCALENDAR