BEGIN:VCALENDAR
VERSION:2.0
PRODID:-//wp-events-plugin.com//7.2.3.1//EN
BEGIN:VEVENT
UID:12@ek.co.za
DTSTART:20250814T100000Z
DTEND:20250814T160000Z
DTSTAMP:20250806T132443Z
URL:https://ek.co.za/events/urgent-auction-spar-tops-reitz/
SUMMARY:!!URGENT AUCTION!! SPAR & TOPS REITZ
DESCRIPTION:\nDuly instructed thereto by the Seller\, the following movable
  assets will be offered and sold by way of public auction:\n\n\nLimited St
 ock Items\, Gondola Shelving\, Industrial Racks\, Display Shelves\, Cateri
 ng Equipment\, Computers\, Office Furniture\, Retail Counters\, Cold Rooms
 \, Display Fridges\, Bakery Equipment\, Butchery Equipment\, Stainless Ste
 el Tables\, JoJo Tanks\, Forklift and much more!\n\n\n\nTERMS: Voetstoots.
  Strictly cash\, instant EFT\, and/or card payments accepted. FICA and CPA
  Acts enforced. R5000 refundable registration fee to obtain a Bidders Numb
 er. Card facilities available.\n\n\n\nThe Auctioneer reserves the right to
  group items\, sell items separately\, offer items provisionally\, or with
 draw items during the auction. VAT is added where applicable.\n\n\n\nFor e
 nquiries and information contact the Auctioneer\, Mr. Alan Kahts (08256717
 18) or our offices on (051) 4301511.\n\n\n\n[gallery columns="5" ids="1438
 \,1437\,1436\,1435\,1434\,1433\,1432\,1431\,1430\,1429\,1428\,1427\,1426\,
 1425\,1418\,1419\,1420\,1421\,1422\,1423\,1424\,1417\,1416\,1415\,1403\,14
 05\,1404\,1406\,1407\,1408\,1409\,1410\,1411\,1412\,1413\,1414\,1402\,1401
 \,1400\,1399\,1398\,1397\,1396\,1395\,1394\,1393\,1392\,1391\,1390\,1389\,
 1388\,1387\,1386\,1385\,1384"]\n\n
ATTACH;FMTTYPE=image/jpeg:https://ek.co.za/wp-content/uploads/2025/08/5279
 74834_1351678973087026_1286852010788795732_n.jpg
LOCATION:Spar & Tops Reitz\, Corner of Uniefees and Staatspresident CR Swar
 t Street\, Reitz \, Free State \, South Africa
GEO:-27.797396;28.42998
X-APPLE-STRUCTURED-LOCATION;VALUE=URI;X-ADDRESS=Corner of Uniefees and Staa
 tspresident CR Swart Street\, Reitz \, Free State \, South Africa;X-APPLE-
 RADIUS=100;X-TITLE=Spar & Tops Reitz:geo:-27.797396,28.42998
END:VEVENT
END:VCALENDAR