BEGIN:VCALENDAR
VERSION:2.0
PRODID:-//wp-events-plugin.com//7.2.3.1//EN
BEGIN:VEVENT
UID:11@ek.co.za
DTSTART:20240712T100000Z
DTEND:20240712T153000Z
DTSTAMP:20240710T111542Z
URL:https://ek.co.za/events/warehouse-auction-mart-auction-of-loose-assets
 /
SUMMARY:WAREHOUSE AUCTION\, MART AUCTION OF LOOSE ASSETS
DESCRIPTION:ELLENBERGER & KAHTS WAREHOUSE AUCTION\,\nOUR AUCTION MART\,\n36
  ALEXANDRA AVENUE\, BLOEMFONTEIN\, FREE STATE\nON FRIDAY 12 JULY 2024 AT 1
 0:00\n\nDuly instructed thereto by Estates\, Liquidations\, Insolvencies\,
  and other guest-sellers\, the following assets will be sold on auction:\n
 Hi-Fi’s\, TV’s\, TV stands\, Lounge suites\, DSTV Decoders\, Fridges\,
  Microwave ovens\, Various kitchenware\, Office furniture\, Dining room su
 ites\, Bedroom suites\, Chairs\, Ornaments\, Household furniture\, Printer
 s\, Computers\, Copiers\, Heaters\, Washing machines and many more.\n\nVIE
 WING:  THURSDAY\, 11 JULY 2024 FROM 09:00 TO 16:00\n\nTERMS:  Voetstoots a
 nd strictly cash\, EFT or card payments at auction.  R2 000 refundable reg
 istration fee. Card facilities available.  The auctioneers reserve the rig
 ht to group items\, sell items separately\, offer items provisionally or w
 ithdraw items during the auction.  VAT is added where applicable[gallery i
 ds="1376\,1374\,1375\,1373\,1372\,1371\,1370\,1369\,1368\,1367\,1366\,1365
 \,1364\,1362\,1361\,1360\,1359\,1358\,1357\,1356\,1355\,1354\,1353\,1352"]
ATTACH;FMTTYPE=image/jpeg:https://ek.co.za/wp-content/uploads/2024/07/4501
 47036_1040827064172220_4622011896790065837_n.jpg
LOCATION:Ellenberger & Kahts\, 36 Alexandra Avenue \, Bloemfontein \, Free 
 State \, 9301\, Somalia
GEO:-29.109923;26.221273
X-APPLE-STRUCTURED-LOCATION;VALUE=URI;X-ADDRESS=36 Alexandra Avenue \, Bloe
 mfontein \, Free State \, 9301\, Somalia;X-APPLE-RADIUS=100;X-TITLE=Ellenb
 erger & Kahts:geo:-29.109923,26.221273
END:VEVENT
END:VCALENDAR