BEGIN:VCALENDAR
VERSION:2.0
PRODID:-//wp-events-plugin.com//7.2.3.1//EN
BEGIN:VEVENT
UID:13@ek.co.za
DTSTART:20250829T100000Z
DTEND:20250829T150000Z
DTSTAMP:20250825T142129Z
URL:https://ek.co.za/events/warehouse-auction/
SUMMARY:WAREHOUSE AUCTION!!
DESCRIPTION:WAREHOUSE AUCTION!!\nOUR AUCTION MART\n36 ALEXANDRA AVENUE\, BL
 OEMFONTEIN ON FRIDAY 29 AUGUST 2025 AT 10:00.\nDuly instructed thereto by 
 the Executors of the Deceased Estates\, Insolvencies and other guest-selle
 rs\, the following assets will be sold on auction:\nHi-Fi’s\, TV’s\, T
 V stands\, Lounge suites\, DSTV Decoders\, Fridges\, Microwave ovens\, Var
 ious kitchenware\, Office furniture\, Dining room suites\, Bedroom suites\
 , Chairs\, Ornaments\, Household furniture\, Printers\, Computers\, Copier
 s\, Heaters\, Washing machines\, and many more.\nVIEWING: THURSDAY 28 AUGU
 ST 2025 FROM 09:00 TO 16:00\nTERMS: Voetstoots and strictly cash\, EFT or 
 card payments at auction. R2 000 refundable registration fee. Card facilit
 ies are available. The auctioneers reserve the right to group items\, sell
  items separately\, offer items provisionally or withdraw items during the
  auction. VAT is added where applicable.\nVisit www.gov.za for the FICA Ac
 t and CPA Act.\n\nCopy of ID and Proof of address not older than three mon
 ths is required with registration\nContact the auctioneer\, Mr. Alan Kahts
 \, 082 567 1718 or our offices 051 430 1511 for inquiries.\n\n[gallery ids
 ="1442\,1443\,1444\,1445\,1446\,1447\,1448\,1449\,1450\,1451\,1452\,1453\,
 1454\,1455\,1456\,1457\,1458\,1459\,1460\,1461\,1462\,1463\,1464"]
ATTACH;FMTTYPE=image/jpeg:https://ek.co.za/wp-content/uploads/2025/08/Capt
 ure.JPG2_.jpg
LOCATION:Ellenberger & Kahts\, 36 Alexandra Avenue \, Bloemfontein \, Free 
 State \, 9301\, Somalia
GEO:-29.109923;26.221273
X-APPLE-STRUCTURED-LOCATION;VALUE=URI;X-ADDRESS=36 Alexandra Avenue \, Bloe
 mfontein \, Free State \, 9301\, Somalia;X-APPLE-RADIUS=100;X-TITLE=Ellenb
 erger & Kahts:geo:-29.109923,26.221273
END:VEVENT
END:VCALENDAR